BEGIN:VCALENDAR
VERSION:2.0
PRODID:-//Squarespace Inc/Squarespace 6//v6//EN
BEGIN:VEVENT
UID:57777a0537c581dd7deb2f76@squarespace.com
DTSTAMP:20160805T011246Z
DTSTART:20160807T124500Z
DTEND:20160807T203000Z
SUMMARY:Endometriosis Wellness Workshop
END:VEVENT
END:VCALENDAR
